BEGIN:VCALENDAR
VERSION:2.0
PRODID:-//85.13.145.179//NONSGML kigkonsult.se iCalcreator 2.20//
CALSCALE:GREGORIAN
METHOD:PUBLISH
X-WR-TIMEZONE:UTC
BEGIN:VEVENT
UID:event45@GuG Isselhorst e.V.
DTSTAMP:20260421T161212Z
CATEGORIES:Ausflüge
DESCRIPTION:Aktion der Jugendgruppe\nKategorie: Ausflüge\nICS-Link: https:/
 /www.gug-isselhorst.de/index.php?option=com_jem&view=event&id=45:aktion-de
 r-jugendgruppe\n
DTSTART:20260419T140000Z
DTEND:20260419T140000Z
SUMMARY:Aktion der Jugendgruppe
URL:https://www.gug-isselhorst.de/index.php?option=com_jem&view=event&id=45
 :aktion-der-jugendgruppe
END:VEVENT
END:VCALENDAR