BEGIN:VCALENDAR
VERSION:2.0
PRODID:-//85.13.145.179//NONSGML kigkonsult.se iCalcreator 2.20//
CALSCALE:GREGORIAN
METHOD:PUBLISH
X-WR-TIMEZONE:UTC
BEGIN:VEVENT
UID:event55@GuG Isselhorst e.V.
DTSTAMP:20260421T145137Z
CATEGORIES:Impfstoff für Hühner
DESCRIPTION:Impfstoffausgabe\nKategorie: Impfstoff für Hühner\nICS-Link: ht
 tps://www.gug-isselhorst.de/index.php?option=com_jem&view=event&id=55:impf
 stoffausgabe\n
DTSTART:20260919T100000Z
DTEND:20260919T110000Z
LOCATION:Impstoffausgabe\,Steinheideweg 16\,33334 Gütersloh
SUMMARY:Impfstoffausgabe
URL:https://www.gug-isselhorst.de/index.php?option=com_jem&view=event&id=55
 :impfstoffausgabe
END:VEVENT
END:VCALENDAR