BEGIN:VCALENDAR
VERSION:2.0
PRODID:-//85.13.145.179//NONSGML kigkonsult.se iCalcreator 2.20//
CALSCALE:GREGORIAN
METHOD:PUBLISH
X-WR-TIMEZONE:UTC
BEGIN:VEVENT
UID:event56@GuG Isselhorst e.V.
DTSTAMP:20260421T172252Z
CATEGORIES:Versammlung
DESCRIPTION:Herbstversammlung\nKategorie: Versammlung\nICS-Link: https://ww
 w.gug-isselhorst.de/index.php?option=com_jem&view=event&id=56:herbstversam
 mlung\n
DTSTART:20260923T193000Z
DTEND:20260923T193000Z
LOCATION:Gasthof Mühlenstroth\,Postdamm 166\,33334 Gütersloh
SUMMARY:Herbstversammlung
URL:https://www.gug-isselhorst.de/index.php?option=com_jem&view=event&id=56
 :herbstversammlung
END:VEVENT
END:VCALENDAR