BEGIN:VCALENDAR
VERSION:2.0
PRODID:-//85.13.145.179//NONSGML kigkonsult.se iCalcreator 2.20//
CALSCALE:GREGORIAN
METHOD:PUBLISH
X-WR-TIMEZONE:UTC
BEGIN:VEVENT
UID:event58@GuG Isselhorst e.V.
DTSTAMP:20260421T215542Z
CATEGORIES:Ausstellung
DESCRIPTION:Aufbau Ausstellung\nKategorie: Ausstellung\nICS-Link: https://w
 ww.gug-isselhorst.de/index.php?option=com_jem&view=event&id=58:aufbau-auss
 tellung\n
DTSTART:20261008T163000Z
DTEND:20261008T163000Z
LOCATION:Festhalle Isselhorst\,Haller Straße 108\,33334 Gütersloh
SUMMARY:Aufbau Ausstellung
URL:https://www.gug-isselhorst.de/index.php?option=com_jem&view=event&id=58
 :aufbau-ausstellung
END:VEVENT
END:VCALENDAR