BEGIN:VCALENDAR
VERSION:2.0
PRODID:-//85.13.145.179//NONSGML kigkonsult.se iCalcreator 2.20//
CALSCALE:GREGORIAN
METHOD:PUBLISH
X-WR-TIMEZONE:UTC
BEGIN:VEVENT
UID:event59@GuG Isselhorst e.V.
DTSTAMP:20260421T214807Z
CATEGORIES:Ausstellung
DESCRIPTION:Einsetzen der Tiere und Anlieferung Obst/Gemüse\nKategorie: Aus
 stellung\nICS-Link: https://www.gug-isselhorst.de/index.php?option=com_jem
 &view=event&id=59:einsetzen-der-tiere-und-anlieferung-obst-gemuese\n
DTSTART:20261009T183000Z
DTEND:20261009T183000Z
LOCATION:Festhalle Isselhorst\,Haller Straße 108\,33334 Gütersloh
SUMMARY:Einsetzen der Tiere und Anlieferung Obst/Gemüse
URL:https://www.gug-isselhorst.de/index.php?option=com_jem&view=event&id=59
 :einsetzen-der-tiere-und-anlieferung-obst-gemuese
END:VEVENT
END:VCALENDAR