BEGIN:VCALENDAR
VERSION:2.0
PRODID:-//85.13.145.179//NONSGML kigkonsult.se iCalcreator 2.20//
CALSCALE:GREGORIAN
METHOD:PUBLISH
X-WR-TIMEZONE:UTC
BEGIN:VEVENT
UID:event62@GuG Isselhorst e.V.
DTSTAMP:20260421T172859Z
CATEGORIES:Veranstaltungen
DESCRIPTION:Familiennachmittag\nKategorie: Veranstaltungen\nICS-Link: https
 ://www.gug-isselhorst.de/index.php?option=com_jem&view=event&id=62:familie
 nnachmittag\n
DTSTART:20261115T143000Z
DTEND:20261115T143000Z
SUMMARY:Familiennachmittag
URL:https://www.gug-isselhorst.de/index.php?option=com_jem&view=event&id=62
 :familiennachmittag
END:VEVENT
END:VCALENDAR