BEGIN:VCALENDAR
VERSION:2.0
PRODID:-//85.13.145.179//NONSGML kigkonsult.se iCalcreator 2.20//
CALSCALE:GREGORIAN
METHOD:PUBLISH
X-WR-TIMEZONE:UTC
BEGIN:VEVENT
UID:event63@GuG Isselhorst e.V.
DTSTAMP:20260423T103516Z
CATEGORIES:Monatstreffs
DESCRIPTION:Adventstreff\nKategorie: Monatstreffs\nICS-Link: https://www.gu
 g-isselhorst.de/index.php?option=com_jem&view=event&id=63:adventstreff\n
DTSTART:20261207T193000Z
DTEND:20261207T193000Z
LOCATION:Gasthof Mühlenstroth\,Postdamm 166\,33334 Gütersloh
SUMMARY:Adventstreff
URL:https://www.gug-isselhorst.de/index.php?option=com_jem&view=event&id=63
 :adventstreff
END:VEVENT
END:VCALENDAR