BEGIN:VCALENDAR
VERSION:2.0
PRODID:-//85.13.145.179//NONSGML kigkonsult.se iCalcreator 2.20//
CALSCALE:GREGORIAN
METHOD:PUBLISH
X-WR-TIMEZONE:UTC
BEGIN:VEVENT
UID:event67@GuG Isselhorst e.V.
DTSTAMP:20260421T214813Z
CATEGORIES:Überregionale Ausstellungen
DESCRIPTION:VHGW-/VZV-Schau in Erfurt\nKategorie: Überregionale Ausstellung
 en\nICS-Link: https://www.gug-isselhorst.de/index.php?option=com_jem&view=
 event&id=67:vhgw-vzv-schau-in-erfurt\n
DTSTART;VALUE=DATE:20261016
DTEND;VALUE=DATE:20261019
SUMMARY:VHGW-/VZV-Schau in Erfurt
URL:https://www.gug-isselhorst.de/index.php?option=com_jem&view=event&id=67
 :vhgw-vzv-schau-in-erfurt
END:VEVENT
END:VCALENDAR